Package: multiWGCNA Version: 1.0.0 Command: rm -rf multiWGCNA.buildbin-libdir && mkdir multiWGCNA.buildbin-libdir && /Users/biocbuild/BBS/utils/build-universal.sh multiWGCNA_1.0.0.tar.gz /Library/Frameworks/R.framework/Resources/bin/R multiWGCNA.buildbin-libdir StartedAt: 2024-04-16 12:18:02 -0400 (Tue, 16 Apr 2024) EndedAt: 2024-04-16 12:19:14 -0400 (Tue, 16 Apr 2024) EllapsedTime: 71.9 seconds RetCode: 0 Status: OK PackageFile: multiWGCNA_1.0.0.tgz PackageFileSize: 3.314 MiB