Package: multiWGCNA Version: 1.0.0 Command: /home/biocbuild/R/R-4.3.1/bin/R CMD INSTALL multiWGCNA StartedAt: 2023-11-01 20:46:32 -0000 (Wed, 01 Nov 2023) EndedAt: 2023-11-01 20:47:17 -0000 (Wed, 01 Nov 2023) EllapsedTime: 44.9 seconds RetCode: 0 Status: OK