Package: multiWGCNA Version: 0.99.4 Command: /home/biocbuild/R/R-4.3.1/bin/R CMD check --install=check:multiWGCNA.install-out.txt --library=/home/biocbuild/R/R-4.3.1/site-library --timings multiWGCNA_0.99.4.tar.gz StartedAt: 2023-10-24 09:53:55 -0000 (Tue, 24 Oct 2023) EndedAt: 2023-10-24 10:15:55 -0000 (Tue, 24 Oct 2023) EllapsedTime: 1320.3 seconds RetCode: 0 Status: OK CheckDir: multiWGCNA.Rcheck Warnings: 0