Package: multiSight Version: 1.10.0 Command: /Library/Frameworks/R.framework/Resources/bin/R CMD INSTALL multiSight StartedAt: 2024-04-15 16:28:11 -0400 (Mon, 15 Apr 2024) EndedAt: 2024-04-15 16:30:11 -0400 (Mon, 15 Apr 2024) EllapsedTime: 119.9 seconds RetCode: 0 Status: OK