Package: multiSight Version: 1.10.0 Command: rm -rf multiSight.buildbin-libdir && mkdir multiSight.buildbin-libdir && /Users/biocbuild/BBS/utils/build-universal.sh multiSight_1.10.0.tar.gz /Library/Frameworks/R.framework/Resources/bin/R multiSight.buildbin-libdir StartedAt: 2024-04-16 12:17:58 -0400 (Tue, 16 Apr 2024) EndedAt: 2024-04-16 12:20:06 -0400 (Tue, 16 Apr 2024) EllapsedTime: 127.3 seconds RetCode: 0 Status: OK PackageFile: multiSight_1.10.0.tgz PackageFileSize: 2.545 MiB