Package: multiOmicsViz Version: 1.26.0 Command: F:\biocbuild\bbs-3.18-bioc\R\bin\R.exe CMD INSTALL multiOmicsViz StartedAt: 2024-04-15 15:50:47 -0400 (Mon, 15 Apr 2024) EndedAt: 2024-04-15 15:51:15 -0400 (Mon, 15 Apr 2024) EllapsedTime: 28.6 seconds RetCode: 0 Status: OK