Package: multiOmicsViz Version: 1.26.0 Command: chmod a+r multiOmicsViz -R && F:\biocbuild\bbs-3.18-bioc\R\bin\R.exe CMD build --keep-empty-dirs --no-resave-data multiOmicsViz StartedAt: 2024-04-15 19:48:40 -0400 (Mon, 15 Apr 2024) EndedAt: 2024-04-15 19:49:46 -0400 (Mon, 15 Apr 2024) EllapsedTime: 65.3 seconds RetCode: 0 Status: OK PackageFile: multiOmicsViz_1.26.0.tar.gz PackageFileSize: 2.848 MiB