Package: multiOmicsViz Version: 1.26.0 Command: rm -rf multiOmicsViz.buildbin-libdir && mkdir multiOmicsViz.buildbin-libdir && F:\biocbuild\bbs-3.18-bioc\R\bin\R.exe CMD INSTALL --build --library=multiOmicsViz.buildbin-libdir multiOmicsViz_1.26.0.tar.gz StartedAt: 2024-04-16 07:20:42 -0400 (Tue, 16 Apr 2024) EndedAt: 2024-04-16 07:21:16 -0400 (Tue, 16 Apr 2024) EllapsedTime: 34.3 seconds RetCode: 0 Status: OK PackageFile: multiOmicsViz_1.26.0.zip PackageFileSize: 1.484 MiB