Package: multiOmicsViz Version: 1.26.0 Command: /home/biocbuild/bbs-3.18-bioc/R/bin/R CMD INSTALL multiOmicsViz StartedAt: 2024-04-15 15:15:17 -0400 (Mon, 15 Apr 2024) EndedAt: 2024-04-15 15:15:38 -0400 (Mon, 15 Apr 2024) EllapsedTime: 21.4 seconds RetCode: 0 Status: OK