Package: multiOmicsViz Version: 1.26.0 Command: /Library/Frameworks/R.framework/Resources/bin/R CMD INSTALL multiOmicsViz StartedAt: 2024-03-03 15:17:48 -0500 (Sun, 03 Mar 2024) EndedAt: 2024-03-03 15:18:16 -0500 (Sun, 03 Mar 2024) EllapsedTime: 28.2 seconds RetCode: 0 Status: OK