Package: multiHiCcompare Version: 1.20.0 Command: chmod a+r multiHiCcompare -R && F:\biocbuild\bbs-3.18-bioc\R\bin\R.exe CMD build --keep-empty-dirs --no-resave-data multiHiCcompare StartedAt: 2024-04-15 19:48:19 -0400 (Mon, 15 Apr 2024) EndedAt: 2024-04-15 19:49:57 -0400 (Mon, 15 Apr 2024) EllapsedTime: 98.2 seconds RetCode: 0 Status: OK PackageFile: multiHiCcompare_1.20.0.tar.gz PackageFileSize: 4.488 MiB