Package: multiHiCcompare Version: 1.20.0 Command: rm -rf multiHiCcompare.buildbin-libdir && mkdir multiHiCcompare.buildbin-libdir && F:\biocbuild\bbs-3.18-bioc\R\bin\R.exe CMD INSTALL --build --library=multiHiCcompare.buildbin-libdir multiHiCcompare_1.20.0.tar.gz StartedAt: 2024-04-16 07:20:35 -0400 (Tue, 16 Apr 2024) EndedAt: 2024-04-16 07:21:33 -0400 (Tue, 16 Apr 2024) EllapsedTime: 57.5 seconds RetCode: 0 Status: OK PackageFile: multiHiCcompare_1.20.0.zip PackageFileSize: 5.118 MiB