Package: multiHiCcompare Version: 1.20.0 Command: /home/biocbuild/bbs-3.18-bioc/R/bin/R CMD build --keep-empty-dirs --no-resave-data multiHiCcompare StartedAt: 2024-04-15 18:07:50 -0400 (Mon, 15 Apr 2024) EndedAt: 2024-04-15 18:08:51 -0400 (Mon, 15 Apr 2024) EllapsedTime: 60.6 seconds RetCode: 0 Status: OK PackageFile: multiHiCcompare_1.20.0.tar.gz PackageFileSize: 4.597 MiB