Package: multiHiCcompare Version: 1.20.0 Command: /Library/Frameworks/R.framework/Resources/bin/R CMD build --keep-empty-dirs --no-resave-data multiHiCcompare StartedAt: 2024-04-15 20:20:10 -0400 (Mon, 15 Apr 2024) EndedAt: 2024-04-15 20:22:37 -0400 (Mon, 15 Apr 2024) EllapsedTime: 146.9 seconds RetCode: 0 Status: OK PackageFile: multiHiCcompare_1.20.0.tar.gz PackageFileSize: 4.723 MiB