Package: multiHiCcompare Version: 1.20.0 Command: /home/biocbuild/R/R-4.3.1/bin/R CMD INSTALL multiHiCcompare StartedAt: 2023-11-01 20:18:33 -0000 (Wed, 01 Nov 2023) EndedAt: 2023-11-01 20:19:12 -0000 (Wed, 01 Nov 2023) EllapsedTime: 38.5 seconds RetCode: 0 Status: OK