Package: multiHiCcompare Version: 1.20.0 Maintainer: Mikhail Dozmorov MaintainerEmail: mikhail.dozmorov at gmail.com git_url: https://git.bioconductor.org/packages/multiHiCcompare git_branch: RELEASE_3_18 git_last_commit: 2767324 git_last_commit_date: 2023-10-24 11:07:06 -0400 (Tue, 24 Oct 2023)