Package: multiGSEA Version: 1.11.2 Command: /home/biocbuild/R/R-4.3.1/bin/R CMD check --install=check:multiGSEA.install-out.txt --library=/home/biocbuild/R/R-4.3.1/site-library --timings multiGSEA_1.11.2.tar.gz StartedAt: 2023-10-24 09:51:28 -0000 (Tue, 24 Oct 2023) EndedAt: 2023-10-24 10:22:37 -0000 (Tue, 24 Oct 2023) EllapsedTime: 1869.3 seconds RetCode: 0 Status: OK CheckDir: multiGSEA.Rcheck Warnings: 0