Package: multiClust Version: 1.32.0 Command: rm -rf multiClust.buildbin-libdir && mkdir multiClust.buildbin-libdir && /Users/biocbuild/BBS/utils/build-universal.sh multiClust_1.32.0.tar.gz /Library/Frameworks/R.framework/Resources/bin/R multiClust.buildbin-libdir StartedAt: 2024-03-04 00:52:41 -0500 (Mon, 04 Mar 2024) EndedAt: 2024-03-04 00:52:55 -0500 (Mon, 04 Mar 2024) EllapsedTime: 13.6 seconds RetCode: 0 Status: OK PackageFile: multiClust_1.32.0.tgz PackageFileSize: 3.066 MiB