Package: multiClust Version: 1.32.0 Command: /home/biocbuild/R/R-4.3.1/bin/R CMD INSTALL multiClust StartedAt: 2023-11-01 20:46:22 -0000 (Wed, 01 Nov 2023) EndedAt: 2023-11-01 20:46:32 -0000 (Wed, 01 Nov 2023) EllapsedTime: 9.8 seconds RetCode: 0 Status: OK