Package: multiClust Version: 1.32.0 Command: /home/biocbuild/R/R-4.3.1/bin/R CMD build --keep-empty-dirs --no-resave-data multiClust StartedAt: 2023-11-02 03:50:34 -0000 (Thu, 02 Nov 2023) EndedAt: 2023-11-02 03:51:08 -0000 (Thu, 02 Nov 2023) EllapsedTime: 34.0 seconds RetCode: 0 Status: OK PackageFile: multiClust_1.32.0.tar.gz PackageFileSize: 3.036 MiB