Package: msmsTests Version: 1.40.0 Command: /home/biocbuild/bbs-3.18-bioc/R/bin/R CMD build --keep-empty-dirs --no-resave-data msmsTests StartedAt: 2024-04-15 18:05:46 -0400 (Mon, 15 Apr 2024) EndedAt: 2024-04-15 18:06:33 -0400 (Mon, 15 Apr 2024) EllapsedTime: 46.8 seconds RetCode: 0 Status: OK PackageFile: msmsTests_1.40.0.tar.gz PackageFileSize: 300.7 KiB