Package: msgbsR Version: 1.26.0 Command: chmod a+r msgbsR -R && F:\biocbuild\bbs-3.18-bioc\R\bin\R.exe CMD build --keep-empty-dirs --no-resave-data msgbsR StartedAt: 2024-04-15 19:44:39 -0400 (Mon, 15 Apr 2024) EndedAt: 2024-04-15 19:46:28 -0400 (Mon, 15 Apr 2024) EllapsedTime: 108.7 seconds RetCode: 0 Status: OK PackageFile: msgbsR_1.26.0.tar.gz PackageFileSize: 15.16 MiB