Package: msgbsR Version: 1.26.0 Command: /Library/Frameworks/R.framework/Resources/bin/R CMD build --keep-empty-dirs --no-resave-data msgbsR StartedAt: 2024-03-03 17:29:44 -0500 (Sun, 03 Mar 2024) EndedAt: 2024-03-03 17:31:47 -0500 (Sun, 03 Mar 2024) EllapsedTime: 123.0 seconds RetCode: 0 Status: OK PackageFile: msgbsR_1.26.0.tar.gz PackageFileSize: 15.25 MiB