Package: msa Version: 1.34.0 Command: /home/biocbuild/R/R-4.3.1/bin/R CMD build --keep-empty-dirs --no-resave-data msa StartedAt: 2023-11-02 03:44:20 -0000 (Thu, 02 Nov 2023) EndedAt: 2023-11-02 03:53:34 -0000 (Thu, 02 Nov 2023) EllapsedTime: 553.4 seconds RetCode: 0 Status: OK PackageFile: msa_1.34.0.tar.gz PackageFileSize: 3.998 MiB