Package: msPurity Version: 1.28.0 Command: F:\biocbuild\bbs-3.18-bioc\R\bin\R.exe CMD check --no-multiarch --install=check:msPurity.install-out.txt --library=F:\biocbuild\bbs-3.18-bioc\R\library --no-vignettes --timings msPurity_1.28.0.tar.gz StartedAt: 2024-04-16 02:59:47 -0400 (Tue, 16 Apr 2024) EndedAt: 2024-04-16 03:17:11 -0400 (Tue, 16 Apr 2024) EllapsedTime: 1044.1 seconds RetCode: 0 Status: OK CheckDir: msPurity.Rcheck Warnings: 0