Package: msPurity Version: 1.28.0 Command: rm -rf msPurity.buildbin-libdir && mkdir msPurity.buildbin-libdir && F:\biocbuild\bbs-3.18-bioc\R\bin\R.exe CMD INSTALL --build --library=msPurity.buildbin-libdir msPurity_1.28.0.tar.gz StartedAt: 2024-04-16 07:19:45 -0400 (Tue, 16 Apr 2024) EndedAt: 2024-04-16 07:20:16 -0400 (Tue, 16 Apr 2024) EllapsedTime: 30.8 seconds RetCode: 0 Status: OK PackageFile: msPurity_1.28.0.zip PackageFileSize: 11.34 MiB