Package: msImpute Version: 1.12.0 Command: F:\biocbuild\bbs-3.18-bioc\R\bin\R.exe CMD INSTALL msImpute StartedAt: 2024-04-15 16:36:57 -0400 (Mon, 15 Apr 2024) EndedAt: 2024-04-15 16:37:37 -0400 (Mon, 15 Apr 2024) EllapsedTime: 40.1 seconds RetCode: 0 Status: OK