Package: msImpute Version: 1.12.0 Command: chmod a+r msImpute -R && F:\biocbuild\bbs-3.18-bioc\R\bin\R.exe CMD build --keep-empty-dirs --no-resave-data msImpute StartedAt: 2024-04-15 19:44:41 -0400 (Mon, 15 Apr 2024) EndedAt: 2024-04-15 19:46:24 -0400 (Mon, 15 Apr 2024) EllapsedTime: 103.1 seconds RetCode: 0 Status: OK PackageFile: msImpute_1.12.0.tar.gz PackageFileSize: 1.601 MiB