Package: msImpute Version: 1.12.0 Command: /Library/Frameworks/R.framework/Resources/bin/R CMD INSTALL msImpute StartedAt: 2024-03-03 15:40:32 -0500 (Sun, 03 Mar 2024) EndedAt: 2024-03-03 15:41:15 -0500 (Sun, 03 Mar 2024) EllapsedTime: 43.2 seconds RetCode: 0 Status: OK