Package: msImpute Version: 1.12.0 Command: /home/biocbuild/R/R-4.3.1/bin/R CMD build --keep-empty-dirs --no-resave-data msImpute StartedAt: 2023-11-02 03:45:57 -0000 (Thu, 02 Nov 2023) EndedAt: 2023-11-02 03:47:36 -0000 (Thu, 02 Nov 2023) EllapsedTime: 98.2 seconds RetCode: 0 Status: OK PackageFile: msImpute_1.12.0.tar.gz PackageFileSize: 1.802 MiB