Package: motifbreakR Version: 2.16.0 Command: chmod a+r motifbreakR -R && F:\biocbuild\bbs-3.18-bioc\R\bin\R.exe CMD build --keep-empty-dirs --no-resave-data motifbreakR StartedAt: 2024-04-15 19:41:40 -0400 (Mon, 15 Apr 2024) EndedAt: 2024-04-15 19:51:20 -0400 (Mon, 15 Apr 2024) EllapsedTime: 579.3 seconds RetCode: 0 Status: OK PackageFile: motifbreakR_2.16.0.tar.gz PackageFileSize: 2.013 MiB