Package: motifbreakR Version: 2.16.0 Command: rm -rf motifbreakR.buildbin-libdir && mkdir motifbreakR.buildbin-libdir && F:\biocbuild\bbs-3.18-bioc\R\bin\R.exe CMD INSTALL --build --library=motifbreakR.buildbin-libdir motifbreakR_2.16.0.tar.gz StartedAt: 2024-04-16 07:18:49 -0400 (Tue, 16 Apr 2024) EndedAt: 2024-04-16 07:20:18 -0400 (Tue, 16 Apr 2024) EllapsedTime: 88.8 seconds RetCode: 0 Status: OK PackageFile: motifbreakR_2.16.0.zip PackageFileSize: 1.947 MiB