Package: motifbreakR Version: 2.16.0 Command: /Library/Frameworks/R.framework/Resources/bin/R CMD build --keep-empty-dirs --no-resave-data motifbreakR StartedAt: 2024-03-03 17:27:05 -0500 (Sun, 03 Mar 2024) EndedAt: 2024-03-03 17:36:16 -0500 (Sun, 03 Mar 2024) EllapsedTime: 551.0 seconds RetCode: 0 Status: OK PackageFile: motifbreakR_2.16.0.tar.gz PackageFileSize: 2.209 MiB