Package: motifStack Version: 1.46.0 Command: F:\biocbuild\bbs-3.18-bioc\R\bin\R.exe CMD INSTALL motifStack StartedAt: 2024-04-15 16:09:23 -0400 (Mon, 15 Apr 2024) EndedAt: 2024-04-15 16:10:34 -0400 (Mon, 15 Apr 2024) EllapsedTime: 71.0 seconds RetCode: 0 Status: OK