Package: monocle Version: 2.30.1 Command: /home/biocbuild/bbs-3.18-bioc/R/bin/R CMD check --install=check:monocle.install-out.txt --library=/home/biocbuild/bbs-3.18-bioc/R/site-library --timings monocle_2.30.1.tar.gz StartedAt: 2024-04-16 01:06:13 -0400 (Tue, 16 Apr 2024) EndedAt: 2024-04-16 01:07:51 -0400 (Tue, 16 Apr 2024) EllapsedTime: 97.5 seconds RetCode: 0 Status: OK CheckDir: monocle.Rcheck Warnings: 0