Package: monocle Version: 2.30.1 Command: /Library/Frameworks/R.framework/Resources/bin/R CMD build --keep-empty-dirs --no-resave-data monocle StartedAt: 2024-04-15 20:08:44 -0400 (Mon, 15 Apr 2024) EndedAt: 2024-04-15 20:09:57 -0400 (Mon, 15 Apr 2024) EllapsedTime: 72.4 seconds RetCode: 0 Status: OK PackageFile: monocle_2.30.1.tar.gz PackageFileSize: 9.006 MiB