Package: monaLisa Version: 1.8.1 Command: /home/biocbuild/bbs-3.18-bioc/R/bin/R CMD INSTALL monaLisa StartedAt: 2024-04-15 15:39:27 -0400 (Mon, 15 Apr 2024) EndedAt: 2024-04-15 15:40:12 -0400 (Mon, 15 Apr 2024) EllapsedTime: 44.6 seconds RetCode: 0 Status: OK