Package: monaLisa Version: 1.8.1 Command: /home/biocbuild/bbs-3.18-bioc/R/bin/R CMD build --keep-empty-dirs --no-resave-data monaLisa StartedAt: 2024-04-15 18:01:28 -0400 (Mon, 15 Apr 2024) EndedAt: 2024-04-15 18:05:49 -0400 (Mon, 15 Apr 2024) EllapsedTime: 260.9 seconds RetCode: 0 Status: OK PackageFile: monaLisa_1.8.1.tar.gz PackageFileSize: 5.001 MiB