Package: monaLisa Version: 1.8.1 Command: /Library/Frameworks/R.framework/Resources/bin/R CMD build --keep-empty-dirs --no-resave-data monaLisa StartedAt: 2024-04-15 20:08:38 -0400 (Mon, 15 Apr 2024) EndedAt: 2024-04-15 20:18:33 -0400 (Mon, 15 Apr 2024) EllapsedTime: 595.2 seconds RetCode: 0 Status: OK PackageFile: monaLisa_1.8.1.tar.gz PackageFileSize: 6.133 MiB