Package: monaLisa Version: 1.8.1 Command: rm -rf monaLisa.buildbin-libdir && mkdir monaLisa.buildbin-libdir && /Users/biocbuild/BBS/utils/build-universal.sh monaLisa_1.8.1.tar.gz /Library/Frameworks/R.framework/Resources/bin/R monaLisa.buildbin-libdir StartedAt: 2024-04-16 12:14:50 -0400 (Tue, 16 Apr 2024) EndedAt: 2024-04-16 12:16:27 -0400 (Tue, 16 Apr 2024) EllapsedTime: 96.9 seconds RetCode: 0 Status: OK PackageFile: monaLisa_1.8.1.tgz PackageFileSize: 6.309 MiB