Package: monaLisa Version: 1.8.0 Command: /Library/Frameworks/R.framework/Resources/bin/R CMD build --keep-empty-dirs --no-resave-data monaLisa StartedAt: 2024-03-03 17:26:23 -0500 (Sun, 03 Mar 2024) EndedAt: 2024-03-03 17:31:41 -0500 (Sun, 03 Mar 2024) EllapsedTime: 318.1 seconds RetCode: 0 Status: OK PackageFile: monaLisa_1.8.0.tar.gz PackageFileSize: 5.101 MiB