Package: mogsa Version: 1.36.0 Command: /Library/Frameworks/R.framework/Resources/bin/R CMD build --keep-empty-dirs --no-resave-data mogsa StartedAt: 2024-04-15 20:08:06 -0400 (Mon, 15 Apr 2024) EndedAt: 2024-04-15 20:13:16 -0400 (Mon, 15 Apr 2024) EllapsedTime: 310.7 seconds RetCode: 0 Status: OK PackageFile: mogsa_1.36.0.tar.gz PackageFileSize: 774.9 KiB