Package: moanin Version: 1.10.0 Command: F:\biocbuild\bbs-3.18-bioc\R\bin\R.exe CMD INSTALL moanin StartedAt: 2024-04-15 16:08:34 -0400 (Mon, 15 Apr 2024) EndedAt: 2024-04-15 16:09:22 -0400 (Mon, 15 Apr 2024) EllapsedTime: 47.5 seconds RetCode: 0 Status: OK