Package: moanin Version: 1.10.0 Command: /Library/Frameworks/R.framework/Resources/bin/R CMD INSTALL moanin StartedAt: 2024-04-15 15:33:36 -0400 (Mon, 15 Apr 2024) EndedAt: 2024-04-15 15:34:50 -0400 (Mon, 15 Apr 2024) EllapsedTime: 74.7 seconds RetCode: 0 Status: OK