Package: moanin Version: 1.10.0 Command: /Library/Frameworks/R.framework/Resources/bin/R CMD check --install=check:moanin.install-out.txt --library=/Library/Frameworks/R.framework/Resources/library --no-vignettes --timings moanin_1.10.0.tar.gz StartedAt: 2024-04-16 05:35:13 -0400 (Tue, 16 Apr 2024) EndedAt: 2024-04-16 05:46:19 -0400 (Tue, 16 Apr 2024) EllapsedTime: 666.1 seconds RetCode: 0 Status: OK CheckDir: moanin.Rcheck Warnings: 0