Package: moanin Version: 1.10.0 Command: rm -rf moanin.buildbin-libdir && mkdir moanin.buildbin-libdir && /Users/biocbuild/BBS/utils/build-universal.sh moanin_1.10.0.tar.gz /Library/Frameworks/R.framework/Resources/bin/R moanin.buildbin-libdir StartedAt: 2024-04-16 12:14:14 -0400 (Tue, 16 Apr 2024) EndedAt: 2024-04-16 12:15:30 -0400 (Tue, 16 Apr 2024) EllapsedTime: 76.0 seconds RetCode: 0 Status: OK PackageFile: moanin_1.10.0.tgz PackageFileSize: 996.7 KiB