Package: mitoClone2 Version: 1.8.1 Command: /Library/Frameworks/R.framework/Resources/bin/R CMD check --install=check:mitoClone2.install-out.txt --library=/Library/Frameworks/R.framework/Resources/library --no-vignettes --timings mitoClone2_1.8.1.tar.gz StartedAt: 2024-04-16 05:31:30 -0400 (Tue, 16 Apr 2024) EndedAt: 2024-04-16 05:44:09 -0400 (Tue, 16 Apr 2024) EllapsedTime: 759.6 seconds RetCode: 0 Status: WARNINGS CheckDir: mitoClone2.Rcheck Warnings: 1