Package: mitoClone2 Version: 1.8.1 Command: rm -rf mitoClone2.buildbin-libdir && mkdir mitoClone2.buildbin-libdir && /Users/biocbuild/BBS/utils/build-universal.sh mitoClone2_1.8.1.tar.gz /Library/Frameworks/R.framework/Resources/bin/R mitoClone2.buildbin-libdir StartedAt: 2024-04-16 12:13:58 -0400 (Tue, 16 Apr 2024) EndedAt: 2024-04-16 12:15:57 -0400 (Tue, 16 Apr 2024) EllapsedTime: 119.1 seconds RetCode: 0 Status: OK PackageFile: mitoClone2_1.8.1.tgz PackageFileSize: 2.055 MiB