Package: mirTarRnaSeq Version: 1.10.0 Command: /Library/Frameworks/R.framework/Resources/bin/R CMD check --install=check:mirTarRnaSeq.install-out.txt --library=/Library/Frameworks/R.framework/Resources/library --no-vignettes --timings mirTarRnaSeq_1.10.0.tar.gz StartedAt: 2024-04-16 05:29:41 -0400 (Tue, 16 Apr 2024) EndedAt: 2024-04-16 05:31:43 -0400 (Tue, 16 Apr 2024) EllapsedTime: 121.7 seconds RetCode: 0 Status: OK CheckDir: mirTarRnaSeq.Rcheck Warnings: 0