Package: mirIntegrator Version: 1.32.0 Command: rm -rf mirIntegrator.buildbin-libdir && mkdir mirIntegrator.buildbin-libdir && /Users/biocbuild/BBS/utils/build-universal.sh mirIntegrator_1.32.0.tar.gz /Library/Frameworks/R.framework/Resources/bin/R mirIntegrator.buildbin-libdir StartedAt: 2024-04-16 12:13:30 -0400 (Tue, 16 Apr 2024) EndedAt: 2024-04-16 12:14:07 -0400 (Tue, 16 Apr 2024) EllapsedTime: 37.2 seconds RetCode: 0 Status: OK PackageFile: mirIntegrator_1.32.0.tgz PackageFileSize: 1.843 MiB